BEGIN:VCALENDAR
VERSION:2.0
PRODID:-//Twin Tiers Christian Academy - ECPv6.15.20//NONSGML v1.0//EN
CALSCALE:GREGORIAN
METHOD:PUBLISH
X-WR-CALNAME:Twin Tiers Christian Academy
X-ORIGINAL-URL:https://www.ttcany.org
X-WR-CALDESC:Events for Twin Tiers Christian Academy
REFRESH-INTERVAL;VALUE=DURATION:PT1H
X-Robots-Tag:noindex
X-PUBLISHED-TTL:PT1H
BEGIN:VTIMEZONE
TZID:America/New_York
BEGIN:DAYLIGHT
TZOFFSETFROM:-0500
TZOFFSETTO:-0400
TZNAME:EDT
DTSTART:20240310T070000
END:DAYLIGHT
BEGIN:STANDARD
TZOFFSETFROM:-0400
TZOFFSETTO:-0500
TZNAME:EST
DTSTART:20241103T060000
END:STANDARD
BEGIN:DAYLIGHT
TZOFFSETFROM:-0500
TZOFFSETTO:-0400
TZNAME:EDT
DTSTART:20250309T070000
END:DAYLIGHT
BEGIN:STANDARD
TZOFFSETFROM:-0400
TZOFFSETTO:-0500
TZNAME:EST
DTSTART:20251102T060000
END:STANDARD
BEGIN:DAYLIGHT
TZOFFSETFROM:-0500
TZOFFSETTO:-0400
TZNAME:EDT
DTSTART:20260308T070000
END:DAYLIGHT
BEGIN:STANDARD
TZOFFSETFROM:-0400
TZOFFSETTO:-0500
TZNAME:EST
DTSTART:20261101T060000
END:STANDARD
END:VTIMEZONE
BEGIN:VEVENT
DTSTART;TZID=America/New_York:20251220T103000
DTEND;TZID=America/New_York:20251220T140000
DTSTAMP:20260420T092936
CREATED:20251104T213307Z
LAST-MODIFIED:20251220T181749Z
UID:10000614-1766226600-1766239200@www.ttcany.org
SUMMARY:Mod/JV Basketball - Grace Christian@TTCA G(10:30)/B(12:00)
DESCRIPTION:
URL:https://www.ttcany.org/event/mod-jv-basketball-grace-christianttca-g1030-b1200/
END:VEVENT
BEGIN:VEVENT
DTSTART;TZID=America/New_York:20251220T133000
DTEND;TZID=America/New_York:20251220T173000
DTSTAMP:20260420T092936
CREATED:20251104T203242Z
LAST-MODIFIED:20251220T213526Z
UID:10000599-1766237400-1766251800@www.ttcany.org
SUMMARY:Basketball - Grace Christian@TTCA VG(1:30)/VB(3:00)
DESCRIPTION:
URL:https://www.ttcany.org/event/basketball-grace-christianttca-vg130-vb300/
END:VEVENT
END:VCALENDAR